BEGIN:VCALENDAR
VERSION:2.0
PRODID:-//Fiddyment Farm Elementary PTC - ECPv6.15.20//NONSGML v1.0//EN
CALSCALE:GREGORIAN
METHOD:PUBLISH
X-WR-CALNAME:Fiddyment Farm Elementary PTC
X-ORIGINAL-URL:https://ffeptc.org
X-WR-CALDESC:Events for Fiddyment Farm Elementary PTC
REFRESH-INTERVAL;VALUE=DURATION:PT1H
X-Robots-Tag:noindex
X-PUBLISHED-TTL:PT1H
BEGIN:VTIMEZONE
TZID:America/Los_Angeles
BEGIN:DAYLIGHT
TZOFFSETFROM:-0800
TZOFFSETTO:-0700
TZNAME:PDT
DTSTART:20220313T100000
END:DAYLIGHT
BEGIN:STANDARD
TZOFFSETFROM:-0700
TZOFFSETTO:-0800
TZNAME:PST
DTSTART:20221106T090000
END:STANDARD
BEGIN:DAYLIGHT
TZOFFSETFROM:-0800
TZOFFSETTO:-0700
TZNAME:PDT
DTSTART:20230312T100000
END:DAYLIGHT
BEGIN:STANDARD
TZOFFSETFROM:-0700
TZOFFSETTO:-0800
TZNAME:PST
DTSTART:20231105T090000
END:STANDARD
BEGIN:DAYLIGHT
TZOFFSETFROM:-0800
TZOFFSETTO:-0700
TZNAME:PDT
DTSTART:20240310T100000
END:DAYLIGHT
BEGIN:STANDARD
TZOFFSETFROM:-0700
TZOFFSETTO:-0800
TZNAME:PST
DTSTART:20241103T090000
END:STANDARD
BEGIN:DAYLIGHT
TZOFFSETFROM:-0800
TZOFFSETTO:-0700
TZNAME:PDT
DTSTART:20250309T100000
END:DAYLIGHT
BEGIN:STANDARD
TZOFFSETFROM:-0700
TZOFFSETTO:-0800
TZNAME:PST
DTSTART:20251102T090000
END:STANDARD
END:VTIMEZONE
BEGIN:VEVENT
DTSTART;TZID=America/Los_Angeles:20240506T010000
DTEND;TZID=America/Los_Angeles:20240510T080000
DTSTAMP:20260419T094722
CREATED:20240819T232256Z
LAST-MODIFIED:20240819T232256Z
UID:673-1714957200-1715328000@ffeptc.org
SUMMARY:Teacher Appreciation Week
DESCRIPTION:Show your teachers some love this week! \nIf you need some ideas\, check out our “Staff Favorites” page for inspiration!
URL:https://ffeptc.org/calendar/teacher-appreciation-week/
LOCATION:Fiddyment Farm Elementary\, 99 Bruck Ln\, Colfax\, CA\, United States
CATEGORIES:Activity
ATTACH;FMTTYPE=image/png:https://ffeptc.org/wp-content/uploads/2023/11/TAW-small.png
END:VEVENT
BEGIN:VEVENT
DTSTART;TZID=America/Los_Angeles:20240506T010000
DTEND;TZID=America/Los_Angeles:20240510T070000
DTSTAMP:20260419T094722
CREATED:20240819T232256Z
LAST-MODIFIED:20240819T232256Z
UID:467-1714957200-1715324400@ffeptc.org
SUMMARY:Teachers / Staff Appreciation Week
DESCRIPTION:The teachers and staff have worked hard all year. This is the week to let them know you appreciate them. \nWant to get something for a staff member? Check out the Staff Favorites page for some ideas.
URL:https://ffeptc.org/calendar/teachers-staff-appreciation-week/
LOCATION:Fiddyment Farm Elementary\, 99 Bruck Ln\, Colfax\, CA\, United States
CATEGORIES:Activity
ATTACH;FMTTYPE=image/webp:https://ffeptc.org/wp-content/uploads/2023/09/1600w-uMCuw9XtkYc.webp
END:VEVENT
BEGIN:VEVENT
DTSTART;TZID=America/Los_Angeles:20240426T100000
DTEND;TZID=America/Los_Angeles:20240426T130000
DTSTAMP:20260419T094722
CREATED:20240819T232257Z
LAST-MODIFIED:20240819T232257Z
UID:670-1714125600-1714136400@ffeptc.org
SUMMARY:Spring Carnival
DESCRIPTION:Celebrate Spring and the last few weeks of the school year at our Spring Carnival. There will be games\, food trucks\, friends and fun…you won’t want to miss it! \nClick here to purchase tickets.
URL:https://ffeptc.org/calendar/spring-carnival/
LOCATION:Fiddyment Farm Elementary\, 99 Bruck Ln\, Colfax\, CA\, United States
ATTACH;FMTTYPE=image/jpeg:https://ffeptc.org/wp-content/uploads/2023/11/unnamed-2.jpg
END:VEVENT
BEGIN:VEVENT
DTSTART;TZID=America/Los_Angeles:20240426T010000
DTEND;TZID=America/Los_Angeles:20240701T100000
DTSTAMP:20260419T094722
CREATED:20240819T232257Z
LAST-MODIFIED:20240819T232257Z
UID:799-1714093200-1719828000@ffeptc.org
SUMMARY:Purchase Back To School Supply Kits
DESCRIPTION:Parents\, buy your 1st Day School Supplies kit today knowing you will get absolutely\, positively no budget brands! \nIt’s hard to start the school year with confidence when you have underperforming budget brands that don’t work. Not with 1st Day School Supplies! They only sell branded products… Guaranteed! \nBuy today with confidence\, knowing that you are getting the exact supplies your teacher requested with the brands you trust and respect. 1st Day School Supplies is the BEST way to buy back-to-school supplies\, with absolutely no budget brands. \nPurchase before May 6th and Fiddyment Farm will entered to win $2500 in extra supplies for the whole school! \nClick here to order
URL:https://ffeptc.org/calendar/purchase-back-to-school-supply-kits/
ATTACH;FMTTYPE=image/jpeg:https://ffeptc.org/wp-content/uploads/2024/04/1stDayFlyer24_July1_A.jpg
END:VEVENT
BEGIN:VEVENT
DTSTART;TZID=America/Los_Angeles:20240418T100000
DTEND;TZID=America/Los_Angeles:20240418T120000
DTSTAMP:20260419T094722
CREATED:20240819T232257Z
LAST-MODIFIED:20240819T232257Z
UID:740-1713434400-1713441600@ffeptc.org
SUMMARY:Open House with PTC Spirit Wear Booth
DESCRIPTION:Every Friday during the school year is spirit day! Help you class win bragging rights for the week by dressing in FFE gear. \nStop by our Spirit Wear Booth during Open House to pick up some FFE goodies.
URL:https://ffeptc.org/calendar/open-house-with-ptc-spirit-wear-booth/
LOCATION:Fiddyment Farm Elementary\, 99 Bruck Ln\, Colfax\, CA\, United States
END:VEVENT
BEGIN:VEVENT
DTSTART;TZID=America/Los_Angeles:20240416T070000
DTEND;TZID=America/Los_Angeles:20240416T090000
DTSTAMP:20260419T094722
CREATED:20240819T232313Z
LAST-MODIFIED:20240819T232313Z
UID:574-1713250800-1713258000@ffeptc.org
SUMMARY:Dine Out - Kona Ice
DESCRIPTION:Stop by the Kona Ice truck today after school for a refreshing treat and to help FFE raise money.
URL:https://ffeptc.org/calendar/dine-out-kona-ice-2/
LOCATION:Fiddyment Farm Elementary\, 99 Bruck Ln\, Colfax\, CA\, United States
CATEGORIES:Fundraiser
ATTACH;FMTTYPE=image/jpeg:https://ffeptc.org/wp-content/uploads/2023/09/unnamed-4.jpg
END:VEVENT
BEGIN:VEVENT
DTSTART;TZID=America/Los_Angeles:20240405T010000
DTEND;TZID=America/Los_Angeles:20240405T100000
DTSTAMP:20260419T094722
CREATED:20240819T232313Z
LAST-MODIFIED:20240819T232313Z
UID:786-1712278800-1712311200@ffeptc.org
SUMMARY:Fifth Grade Celebration and Last Day of School
DESCRIPTION:It’s the LAST DAY OF SCHOOL!!!! Hooray! \nOur 5th Graders will be celebrating moving on from elementary school\, and the rest of the students will just be celebrating the upcoming summer!
URL:https://ffeptc.org/calendar/fifth-grade-celebration-and-last-day-of-school/
ATTACH;FMTTYPE=image/jpeg:https://ffeptc.org/wp-content/uploads/2024/04/unnamed.jpg
END:VEVENT
BEGIN:VEVENT
DTSTART;TZID=America/Los_Angeles:20240404T080000
DTEND;TZID=America/Los_Angeles:20240404T130000
DTSTAMP:20260419T094722
CREATED:20240819T232313Z
LAST-MODIFIED:20240819T232313Z
UID:336-1712217600-1712235600@ffeptc.org
SUMMARY:Dine Out - Nuyo
DESCRIPTION:Stop by Nuyo Frozen Yogurt after school or after dinner to benefit FFE. \nBe sure to show the flyer or mention Fiddyment Farm Elementary when you order.
URL:https://ffeptc.org/calendar/dine-out-nuyo/
LOCATION:Nuyo Frozen Yogurt\, 190 Roseville Pkwy\, Roseville\, CA\, 95747\, United States
CATEGORIES:Fundraiser
ATTACH;FMTTYPE=image/png:https://ffeptc.org/wp-content/uploads/2023/09/cropped-NuYo_FrozenYogurt.png
END:VEVENT
BEGIN:VEVENT
DTSTART;TZID=America/Los_Angeles:20240325T010000
DTEND;TZID=America/Los_Angeles:20240401T070000
DTSTAMP:20260419T094722
CREATED:20240819T232313Z
LAST-MODIFIED:20240819T232313Z
UID:456-1711328400-1711954800@ffeptc.org
SUMMARY:No School - Spring Break
DESCRIPTION:The year is almost over…enjoy your break!
URL:https://ffeptc.org/calendar/no-school-spring-break/
CATEGORIES:Holiday
ATTACH;FMTTYPE=image/jpeg:https://ffeptc.org/wp-content/uploads/2023/09/6642119.jpg
END:VEVENT
BEGIN:VEVENT
DTSTART;TZID=America/Los_Angeles:20240322T030000
DTEND;TZID=America/Los_Angeles:20240322T060000
DTSTAMP:20260419T094722
CREATED:20240819T232314Z
LAST-MODIFIED:20240819T232314Z
UID:462-1711076400-1711087200@ffeptc.org
SUMMARY:Day of Awesomeness
DESCRIPTION:The reward for the students for all of their hard work fundraising for the school. Enjoy your time playing at the Day of Awesomeness! \nRemember to bring socks to wear while in the bounce houses.
URL:https://ffeptc.org/calendar/day-of-awesomeness/
LOCATION:Fiddyment Farm Elementary\, 99 Bruck Ln\, Colfax\, CA\, United States
ATTACH;FMTTYPE=image/jpeg:https://ffeptc.org/wp-content/uploads/2023/09/DofASlide.jpg
END:VEVENT
BEGIN:VEVENT
DTSTART;TZID=America/Los_Angeles:20240321T070000
DTEND;TZID=America/Los_Angeles:20240321T090000
DTSTAMP:20260419T094722
CREATED:20240819T232314Z
LAST-MODIFIED:20240819T232314Z
UID:479-1711004400-1711011600@ffeptc.org
SUMMARY:Dine Out - Kona Ice
DESCRIPTION:Enjoy a sweet treat from Kona Ice today after school!
URL:https://ffeptc.org/calendar/dine-out-kona-ice-1/
LOCATION:Fiddyment Farm Elementary\, 99 Bruck Ln\, Colfax\, CA\, United States
CATEGORIES:Fundraiser
ATTACH;FMTTYPE=image/png:https://ffeptc.org/wp-content/uploads/2023/09/png-clipart-shaved-ice-kona-ice-shave-ice-snow-cone-street-food-september-school-season-food-truck.png
END:VEVENT
BEGIN:VEVENT
DTSTART;TZID=America/Los_Angeles:20240311T090000
DTEND;TZID=America/Los_Angeles:20240311T140000
DTSTAMP:20260419T094722
CREATED:20240819T232314Z
LAST-MODIFIED:20240819T232314Z
UID:483-1710147600-1710165600@ffeptc.org
SUMMARY:Dine Out - Chipotle
DESCRIPTION:Looking for dinner ideas? Head over to Chipotle and tell them Fiddyment Farm Elementary sent you! \nOrder in person\, online or on the app. Make sure to show the flyer or use the promo code.
URL:https://ffeptc.org/calendar/dine-out-chipotle/
LOCATION:Chipotle\, 1980 Blue Oaks Blvd.\, Roseville\, 95747\, United States
CATEGORIES:Fundraiser
ATTACH;FMTTYPE=image/jpeg:https://ffeptc.org/wp-content/uploads/2023/09/unnamed-3.jpg
END:VEVENT
BEGIN:VEVENT
DTSTART;TZID=America/Los_Angeles:20240308T000000
DTEND;TZID=America/Los_Angeles:20240308T060000
DTSTAMP:20260419T094722
CREATED:20240819T232314Z
LAST-MODIFIED:20240819T232314Z
UID:724-1709856000-1709877600@ffeptc.org
SUMMARY:Gift of Reading Celebration
DESCRIPTION:Our library is constantly working to increase material available to our students. Please help our library grow by donating during the Gift of Reading event: \nThe class with the most books donated will earn a pizza party for the entire class. \n**You can purchase books until March 1st. The celebration where students will select a book will take place during school on March 8th.** \n  \nDonate books here or click here to volunteer at the event.
URL:https://ffeptc.org/calendar/gift-of-reading/
LOCATION:Fiddyment Farm Elementary\, 99 Bruck Ln\, Colfax\, CA\, United States
CATEGORIES:Event
ATTACH;FMTTYPE=image/jpeg:https://ffeptc.org/wp-content/uploads/2024/01/IMG_0691-scaled.jpeg
END:VEVENT
BEGIN:VEVENT
DTSTART;TZID=America/Los_Angeles:20240226T000000
DTEND;TZID=America/Los_Angeles:20240315T100000
DTSTAMP:20260419T094722
CREATED:20240819T232256Z
LAST-MODIFIED:20240819T232256Z
UID:459-1708905600-1710496800@ffeptc.org
SUMMARY:Step It Up Fundraiser
DESCRIPTION:This is our biggest fundraiser of the year! Help raise money for Fiddyment Farm Elementary by participating in this amazing fundraiser. Set goals and receive prizes for your efforts. Funds go to supporting the staff\, providing supplies\, and hosting fun events for students.
URL:https://ffeptc.org/calendar/step-it-up-fundraiser/
LOCATION:Fiddyment Farm Elementary\, 99 Bruck Ln\, Colfax\, CA\, United States
CATEGORIES:Fundraiser
ATTACH;FMTTYPE=image/png:https://ffeptc.org/wp-content/uploads/2023/09/Untitleddesign7.png
END:VEVENT
BEGIN:VEVENT
DTSTART;TZID=America/Los_Angeles:20240222T103000
DTEND;TZID=America/Los_Angeles:20240222T120000
DTSTAMP:20260419T094722
CREATED:20240819T232256Z
LAST-MODIFIED:20240819T232256Z
UID:452-1708597800-1708603200@ffeptc.org
SUMMARY:PTC Meeting - Guest Speaker
DESCRIPTION:Join us in the multipurpose room for our monthly meeting. \nThe Principal for Cooley Middle School will be speaking about how to prepare your child for middle school.
URL:https://ffeptc.org/calendar/ptc-meeting-5/
LOCATION:FFE Multi-Purpose Room\, 4001 Brick Mason Circle\, Roseville\, CA\, 95747\, United States
CATEGORIES:Meeting
ATTACH;FMTTYPE=image/jpeg:https://ffeptc.org/wp-content/uploads/2023/09/PTC-Meeting.jpg
END:VEVENT
BEGIN:VEVENT
DTSTART;TZID=America/Los_Angeles:20240221T030000
DTEND;TZID=America/Los_Angeles:20240221T130000
DTSTAMP:20260419T094722
CREATED:20240819T232256Z
LAST-MODIFIED:20240819T232256Z
UID:487-1708484400-1708520400@ffeptc.org
SUMMARY:Dine Out - Old Town Pizza
DESCRIPTION:What’s on the menu today? How about pizza? \nHead over to OTP and get a tasty pizza or fresh salad. \nOrder in-person\, online or using the app. Honored at both Roseville and Lincoln locations. Be sure to mention Fiddyment Farm Elementary or use code FR15.
URL:https://ffeptc.org/calendar/dine-out-old-town-pizza/
LOCATION:Old Town Pizza\, 120 Church Street\, Roseville\, AR\, 95747\, United States
CATEGORIES:Fundraiser
ATTACH;FMTTYPE=image/png:https://ffeptc.org/wp-content/uploads/2023/09/235218434_2075868449230371_1205251355743951352_n.png
END:VEVENT
BEGIN:VEVENT
DTSTART;TZID=America/Los_Angeles:20240219T000000
DTEND;TZID=America/Los_Angeles:20240219T060000
DTSTAMP:20260419T094722
CREATED:20240819T232256Z
LAST-MODIFIED:20240819T232256Z
UID:450-1708300800-1708322400@ffeptc.org
SUMMARY:No School
DESCRIPTION:Enjoy your day off!
URL:https://ffeptc.org/calendar/no-school-6/
CATEGORIES:Holiday
ATTACH;FMTTYPE=image/jpeg:https://ffeptc.org/wp-content/uploads/2023/09/D4b8E76WkAAOZem.jpg
END:VEVENT
BEGIN:VEVENT
DTSTART;TZID=America/Los_Angeles:20240212T000000
DTEND;TZID=America/Los_Angeles:20240212T060000
DTSTAMP:20260419T094722
CREATED:20240819T232256Z
LAST-MODIFIED:20240819T232256Z
UID:446-1707696000-1707717600@ffeptc.org
SUMMARY:No School
DESCRIPTION:Enjoy your day off!
URL:https://ffeptc.org/calendar/no-school-5/
CATEGORIES:Holiday
ATTACH;FMTTYPE=image/jpeg:https://ffeptc.org/wp-content/uploads/2023/09/D4b8E76WkAAOZem.jpg
END:VEVENT
BEGIN:VEVENT
DTSTART;TZID=America/Los_Angeles:20240209T090000
DTEND;TZID=America/Los_Angeles:20240209T123000
DTSTAMP:20260419T094722
CREATED:20240819T232256Z
LAST-MODIFIED:20240819T232256Z
UID:663-1707469200-1707481800@ffeptc.org
SUMMARY:Family Dance
DESCRIPTION:Bring your family for a night of fun…and bring your dancing shoes! \nTwo times from which to choose: \n\n5:00pm – 6:30pm\n7:00pm – 8:30pm\n\n\n– Families may only attend one of the 2 sessions\, not both.\n\n– The first 100 tickets sold will be entered into a raffle to win a prize.\n\n– We are in great need of volunteers! Volunteering is open to all as security clearance isn’t needed. The QR code is included in the flyer. All volunteers will be entered into a special raffle for a prize basket.\n\n– Our Amazon wishlist is also included in the flyer for those looking to support through donations.\n\n\n\nTicket sales link: https://my.cheddarup.com/c/ffe-ptc-family-dance?cart=98331b99-a11b-4b77-a942-bb180cb7a27a%21%2170230138\n\nThis also includes the links to volunteer and the Amazon Wish List.
URL:https://ffeptc.org/calendar/family-dance/
LOCATION:FFE Multi-Purpose Room\, 4001 Brick Mason Circle\, Roseville\, CA\, 95747\, United States
CATEGORIES:Activity
ATTACH;FMTTYPE=image/png:https://ffeptc.org/wp-content/uploads/2023/11/thumbnail.png
END:VEVENT
BEGIN:VEVENT
DTSTART;TZID=America/Los_Angeles:20240129T000000
DTEND;TZID=America/Los_Angeles:20240129T050000
DTSTAMP:20260419T094722
CREATED:20240819T232256Z
LAST-MODIFIED:20240819T232256Z
UID:727-1706486400-1706504400@ffeptc.org
SUMMARY:Gift of Reading Celebration Event
DESCRIPTION:Students who have donated books to the library during the Gift of Reading event will select their book and decorate a 2024 Bookworm to commemorate their donation. We need volunteers to help facilitate the event. \nClick here if you would like to volunteer.
URL:https://ffeptc.org/calendar/gift-of-reading-celebration-event/
LOCATION:Fiddyment Farm Elementary\, 99 Bruck Ln\, Colfax\, CA\, United States
ATTACH;FMTTYPE=image/jpeg:https://ffeptc.org/wp-content/uploads/2024/01/IMG_0691-scaled.jpeg
END:VEVENT
BEGIN:VEVENT
DTSTART;TZID=America/Los_Angeles:20240125T103000
DTEND;TZID=America/Los_Angeles:20240125T120000
DTSTAMP:20260419T094722
CREATED:20240819T232256Z
LAST-MODIFIED:20240819T232256Z
UID:444-1706178600-1706184000@ffeptc.org
SUMMARY:PTC Meeting - Guest Speaker
DESCRIPTION:Join us in the multipurpose room for our monthly meeting. \nA representative from Westpark Junior Cheer will speak about the program and how your child can become involved.
URL:https://ffeptc.org/calendar/ptc-meeting-4/
LOCATION:FFE Multi-Purpose Room\, 4001 Brick Mason Circle\, Roseville\, CA\, 95747\, United States
CATEGORIES:Meeting
ATTACH;FMTTYPE=image/jpeg:https://ffeptc.org/wp-content/uploads/2023/09/PTC-Meeting.jpg
END:VEVENT
BEGIN:VEVENT
DTSTART;TZID=America/Los_Angeles:20240117T230000
DTEND;TZID=America/Los_Angeles:20240118T130000
DTSTAMP:20260419T094722
CREATED:20240819T232256Z
LAST-MODIFIED:20240819T232256Z
UID:491-1705532400-1705582800@ffeptc.org
SUMMARY:Dine Out - Moksa Barrel House
DESCRIPTION:Enjoy delicious food at Moksa Barrel House today and help FFE fundraise. Available all day\, they’re even open for breakfast…tell your friends!
URL:https://ffeptc.org/calendar/dine-out-moksa-barrel-house/
LOCATION:Moksa Barrel House\, 10007 Foothills Blvd.\, Roseville\, 95747\, United States
ATTACH;FMTTYPE=image/jpeg:https://ffeptc.org/wp-content/uploads/2023/09/290785887_403565535142618_4669987181580815344_n.jpg
END:VEVENT
BEGIN:VEVENT
DTSTART;TZID=America/Los_Angeles:20240115T000000
DTEND;TZID=America/Los_Angeles:20240115T060000
DTSTAMP:20260419T094722
CREATED:20240819T232256Z
LAST-MODIFIED:20240819T232256Z
UID:440-1705276800-1705298400@ffeptc.org
SUMMARY:No School
DESCRIPTION:Enjoy the day off!
URL:https://ffeptc.org/calendar/no-school-4/
CATEGORIES:Holiday
ATTACH;FMTTYPE=image/jpeg:https://ffeptc.org/wp-content/uploads/2023/09/D4b8E76WkAAOZem.jpg
END:VEVENT
BEGIN:VEVENT
DTSTART;TZID=America/Los_Angeles:20231221T000000
DTEND;TZID=America/Los_Angeles:20240105T060000
DTSTAMP:20260419T094722
CREATED:20240819T232256Z
LAST-MODIFIED:20240819T232256Z
UID:437-1703116800-1704434400@ffeptc.org
SUMMARY:No School - Winter Break
DESCRIPTION:Whew! It’s time for a nice loooooong Winter Break. See you next year!
URL:https://ffeptc.org/calendar/no-school-winter-break/
CATEGORIES:Holiday
ATTACH;FMTTYPE=image/jpeg:https://ffeptc.org/wp-content/uploads/2023/09/693126.jpg
END:VEVENT
BEGIN:VEVENT
DTSTART;TZID=America/Los_Angeles:20231215T100000
DTEND;TZID=America/Los_Angeles:20231215T120000
DTSTAMP:20260419T094722
CREATED:20231110T012323Z
LAST-MODIFIED:20231130T021025Z
UID:666-1702634400-1702641600@ffeptc.org
SUMMARY:Movie Night - The Polar Express
DESCRIPTION:Join us as we celebrate the season with a movie night in the Mult-Purpose Room watching “The Polar Express”. \nSpace is limited so click here to RSVP with the number of kids and adults that will be attending. All children must be accompanied by an adult. We can only accommodate those on the RSVP List. \nOpen seating\, first come first serve. Picnic style seating on the floor bring a blanket\, stuffed animal and come in your pjs or comfy clothes. If you would like to sit in a chair please bring them and you will be placed towards the back of the multi purpose room. We will be selling popcorn and snacks. You are encouraged to bring outside food and drinks for your family. Just ask that everyone clean up after themselves. \nDoors open at 6:00pm \nMovie starts at 6:30pm
URL:https://ffeptc.org/calendar/movie-night-the-polar-express/
LOCATION:FFE Multi-Purpose Room\, 4001 Brick Mason Circle\, Roseville\, CA\, 95747\, United States
CATEGORIES:Event
ATTACH;FMTTYPE=image/jpeg:https://ffeptc.org/wp-content/uploads/2023/11/IMG_6106.jpeg
END:VEVENT
BEGIN:VEVENT
DTSTART;TZID=America/Los_Angeles:20231212T060000
DTEND;TZID=America/Los_Angeles:20231212T080000
DTSTAMP:20260419T094722
CREATED:20230914T060232Z
LAST-MODIFIED:20230926T235437Z
UID:495-1702360800-1702368000@ffeptc.org
SUMMARY:Dine Out - Kona Hot Chocolate
DESCRIPTION:Just because it’s too chilly for shaved ice\, doesn’t mean Kona Ice can’t offer a sweet treat! Stop by the truck after school today for a hot chocolate and help FFE raise money!
URL:https://ffeptc.org/calendar/dine-out-kona-hot-chocolate/
LOCATION:Fiddyment Farm Elementary\, 99 Bruck Ln\, Colfax\, CA\, United States
CATEGORIES:Fundraiser
ATTACH;FMTTYPE=image/png:https://ffeptc.org/wp-content/uploads/2023/09/png-clipart-shaved-ice-kona-ice-shave-ice-snow-cone-street-food-september-school-season-food-truck.png
END:VEVENT
BEGIN:VEVENT
DTSTART;TZID=America/Los_Angeles:20231206T020000
DTEND;TZID=America/Los_Angeles:20231206T130000
DTSTAMP:20260419T094722
CREATED:20230914T053715Z
LAST-MODIFIED:20230926T233923Z
UID:475-1701828000-1701867600@ffeptc.org
SUMMARY:Dine Out - MOD Pizza
DESCRIPTION:Order pizza for dinner tonight and help us raise money for FFE. In fact\, order pizza for all your meals as the fundraiser goes on all day! \nYou can order in-person\, online or with the app. \nBe sure to mention Fiddyment Farm Elementary or use code MODF7845.
URL:https://ffeptc.org/calendar/dine-out-mod-pizza/
LOCATION:MOD Pizza\, 190 Roseville Pkwy\, Roseville\, CA\, 95747\, United States
CATEGORIES:Fundraiser
ATTACH;FMTTYPE=image/png:https://ffeptc.org/wp-content/uploads/2023/09/MOD_Pizza_logo.svg.png
END:VEVENT
BEGIN:VEVENT
DTSTART;TZID=America/Los_Angeles:20231202T020000
DTEND;TZID=America/Los_Angeles:20231202T060000
DTSTAMP:20260419T094722
CREATED:20230914T044341Z
LAST-MODIFIED:20231110T011245Z
UID:432-1701482400-1701496800@ffeptc.org
SUMMARY:Holiday Craft Fair
DESCRIPTION:Struggling with holiday gifts this season? Visit our Holiday Craft Fair where local vendors offer their unique gifts for sale.
URL:https://ffeptc.org/calendar/holiday-craft-fair/
LOCATION:FFE Multi-Purpose Room\, 4001 Brick Mason Circle\, Roseville\, CA\, 95747\, United States
CATEGORIES:Event
ATTACH;FMTTYPE=image/webp:https://ffeptc.org/wp-content/uploads/2023/09/thumb645ee4648c47c.webp
END:VEVENT
BEGIN:VEVENT
DTSTART;TZID=America/Los_Angeles:20231120T000000
DTEND;TZID=America/Los_Angeles:20231124T060000
DTSTAMP:20260419T094722
CREATED:20230914T043056Z
LAST-MODIFIED:20230914T043056Z
UID:425-1700438400-1700805600@ffeptc.org
SUMMARY:No School - Fall Break
DESCRIPTION:Enjoy your time off!
URL:https://ffeptc.org/calendar/no-school-fall-break/
CATEGORIES:Holiday
ATTACH;FMTTYPE=image/webp:https://ffeptc.org/wp-content/uploads/2023/09/IMG_0313.webp
END:VEVENT
BEGIN:VEVENT
DTSTART;TZID=America/Los_Angeles:20231116T090000
DTEND;TZID=America/Los_Angeles:20231116T130000
DTSTAMP:20260419T094722
CREATED:20230914T060722Z
LAST-MODIFIED:20231013T222155Z
UID:499-1700125200-1700139600@ffeptc.org
SUMMARY:Dine Out - Dog Haus
DESCRIPTION:Grab dinner and a brew at Dog Haus Biergarten tonight. \nMention Fiddyment Farm Elementary or show the flyer when you order.
URL:https://ffeptc.org/calendar/dine-out-dog-haus/
LOCATION:Dog Haus\, 1501 Blue Oaks Blve\, Roseville\, 95747\, United States
CATEGORIES:Fundraiser
ATTACH;FMTTYPE=image/jpeg:https://ffeptc.org/wp-content/uploads/2023/09/DogHaus_Logo.jpg
END:VEVENT
END:VCALENDAR