BEGIN:VCALENDAR
VERSION:2.0
PRODID:-//Fiddyment Farm Elementary PTC - ECPv6.15.20//NONSGML v1.0//EN
CALSCALE:GREGORIAN
METHOD:PUBLISH
X-WR-CALNAME:Fiddyment Farm Elementary PTC
X-ORIGINAL-URL:https://ffeptc.org
X-WR-CALDESC:Events for Fiddyment Farm Elementary PTC
REFRESH-INTERVAL;VALUE=DURATION:PT1H
X-Robots-Tag:noindex
X-PUBLISHED-TTL:PT1H
BEGIN:VTIMEZONE
TZID:America/Los_Angeles
BEGIN:DAYLIGHT
TZOFFSETFROM:-0800
TZOFFSETTO:-0700
TZNAME:PDT
DTSTART:20220313T100000
END:DAYLIGHT
BEGIN:STANDARD
TZOFFSETFROM:-0700
TZOFFSETTO:-0800
TZNAME:PST
DTSTART:20221106T090000
END:STANDARD
BEGIN:DAYLIGHT
TZOFFSETFROM:-0800
TZOFFSETTO:-0700
TZNAME:PDT
DTSTART:20230312T100000
END:DAYLIGHT
BEGIN:STANDARD
TZOFFSETFROM:-0700
TZOFFSETTO:-0800
TZNAME:PST
DTSTART:20231105T090000
END:STANDARD
BEGIN:DAYLIGHT
TZOFFSETFROM:-0800
TZOFFSETTO:-0700
TZNAME:PDT
DTSTART:20240310T100000
END:DAYLIGHT
BEGIN:STANDARD
TZOFFSETFROM:-0700
TZOFFSETTO:-0800
TZNAME:PST
DTSTART:20241103T090000
END:STANDARD
END:VTIMEZONE
BEGIN:VEVENT
DTSTART;TZID=America/Los_Angeles:20230824T113000
DTEND;TZID=America/Los_Angeles:20230824T133000
DTSTAMP:20260421T185826
CREATED:20230801T050939Z
LAST-MODIFIED:20230801T051258Z
UID:68-1692876600-1692883800@ffeptc.org
SUMMARY:PTC Meeting
DESCRIPTION:Join us as we discuss the upcoming school year. We would love to have you involved.
URL:https://ffeptc.org/calendar/ptc-meeting/
LOCATION:FFE Multi-Purpose Room\, 4001 Brick Mason Circle\, Roseville\, CA\, 95747\, United States
CATEGORIES:Meeting
ATTACH;FMTTYPE=image/jpeg:https://ffeptc.org/wp-content/uploads/2023/07/333024166_938521997299557_5376105011272328254_n.jpg
END:VEVENT
END:VCALENDAR