BEGIN:VCALENDAR
VERSION:2.0
PRODID:-//Fiddyment Farm Elementary PTC - ECPv6.15.20//NONSGML v1.0//EN
CALSCALE:GREGORIAN
METHOD:PUBLISH
X-ORIGINAL-URL:https://ffeptc.org
X-WR-CALDESC:Events for Fiddyment Farm Elementary PTC
REFRESH-INTERVAL;VALUE=DURATION:PT1H
X-Robots-Tag:noindex
X-PUBLISHED-TTL:PT1H
BEGIN:VTIMEZONE
TZID:America/Los_Angeles
BEGIN:DAYLIGHT
TZOFFSETFROM:-0800
TZOFFSETTO:-0700
TZNAME:PDT
DTSTART:20230312T100000
END:DAYLIGHT
BEGIN:STANDARD
TZOFFSETFROM:-0700
TZOFFSETTO:-0800
TZNAME:PST
DTSTART:20231105T090000
END:STANDARD
BEGIN:DAYLIGHT
TZOFFSETFROM:-0800
TZOFFSETTO:-0700
TZNAME:PDT
DTSTART:20240310T100000
END:DAYLIGHT
BEGIN:STANDARD
TZOFFSETFROM:-0700
TZOFFSETTO:-0800
TZNAME:PST
DTSTART:20241103T090000
END:STANDARD
BEGIN:DAYLIGHT
TZOFFSETFROM:-0800
TZOFFSETTO:-0700
TZNAME:PDT
DTSTART:20250309T100000
END:DAYLIGHT
BEGIN:STANDARD
TZOFFSETFROM:-0700
TZOFFSETTO:-0800
TZNAME:PST
DTSTART:20251102T090000
END:STANDARD
END:VTIMEZONE
BEGIN:VEVENT
DTSTART;TZID=America/Los_Angeles:20240222T103000
DTEND;TZID=America/Los_Angeles:20240222T120000
DTSTAMP:20260421T051556
CREATED:20240819T232256Z
LAST-MODIFIED:20240819T232256Z
UID:452-1708597800-1708603200@ffeptc.org
SUMMARY:PTC Meeting - Guest Speaker
DESCRIPTION:Join us in the multipurpose room for our monthly meeting. \nThe Principal for Cooley Middle School will be speaking about how to prepare your child for middle school.
URL:https://ffeptc.org/calendar/ptc-meeting-5/
LOCATION:FFE Multi-Purpose Room\, 4001 Brick Mason Circle\, Roseville\, CA\, 95747\, United States
CATEGORIES:Meeting
ATTACH;FMTTYPE=image/jpeg:https://ffeptc.org/wp-content/uploads/2023/09/PTC-Meeting.jpg
END:VEVENT
END:VCALENDAR