BEGIN:VCALENDAR
VERSION:2.0
PRODID:-//Fiddyment Farm Elementary PTC - ECPv6.15.20//NONSGML v1.0//EN
CALSCALE:GREGORIAN
METHOD:PUBLISH
X-WR-CALNAME:Fiddyment Farm Elementary PTC
X-ORIGINAL-URL:https://ffeptc.org
X-WR-CALDESC:Events for Fiddyment Farm Elementary PTC
REFRESH-INTERVAL;VALUE=DURATION:PT1H
X-Robots-Tag:noindex
X-PUBLISHED-TTL:PT1H
BEGIN:VTIMEZONE
TZID:America/Los_Angeles
BEGIN:DAYLIGHT
TZOFFSETFROM:-0800
TZOFFSETTO:-0700
TZNAME:PDT
DTSTART:20220313T100000
END:DAYLIGHT
BEGIN:STANDARD
TZOFFSETFROM:-0700
TZOFFSETTO:-0800
TZNAME:PST
DTSTART:20221106T090000
END:STANDARD
BEGIN:DAYLIGHT
TZOFFSETFROM:-0800
TZOFFSETTO:-0700
TZNAME:PDT
DTSTART:20230312T100000
END:DAYLIGHT
BEGIN:STANDARD
TZOFFSETFROM:-0700
TZOFFSETTO:-0800
TZNAME:PST
DTSTART:20231105T090000
END:STANDARD
BEGIN:DAYLIGHT
TZOFFSETFROM:-0800
TZOFFSETTO:-0700
TZNAME:PDT
DTSTART:20240310T100000
END:DAYLIGHT
BEGIN:STANDARD
TZOFFSETFROM:-0700
TZOFFSETTO:-0800
TZNAME:PST
DTSTART:20241103T090000
END:STANDARD
END:VTIMEZONE
BEGIN:VEVENT
DTSTART;TZID=America/Los_Angeles:20231030T010000
DTEND;TZID=America/Los_Angeles:20231030T070000
DTSTAMP:20260421T095445
CREATED:20230914T024011Z
LAST-MODIFIED:20230914T042508Z
UID:382-1698627600-1698649200@ffeptc.org
SUMMARY:No School!
DESCRIPTION:Enjoy your days off!
URL:https://ffeptc.org/calendar/no-school/
CATEGORIES:Holiday
ATTACH;FMTTYPE=image/jpeg:https://ffeptc.org/wp-content/uploads/2023/09/D4b8E76WkAAOZem.jpg
END:VEVENT
BEGIN:VEVENT
DTSTART;TZID=America/Los_Angeles:20231031T010000
DTEND;TZID=America/Los_Angeles:20231031T070000
DTSTAMP:20260421T095445
CREATED:20230914T042600Z
LAST-MODIFIED:20230914T042600Z
UID:420-1698714000-1698735600@ffeptc.org
SUMMARY:No School!
DESCRIPTION:Enjoy your days off!
URL:https://ffeptc.org/calendar/no-school-3/
CATEGORIES:Holiday
ATTACH;FMTTYPE=image/jpeg:https://ffeptc.org/wp-content/uploads/2023/09/D4b8E76WkAAOZem.jpg
END:VEVENT
END:VCALENDAR