BEGIN:VCALENDAR
VERSION:2.0
PRODID:-//Fiddyment Farm Elementary PTC - ECPv6.15.20//NONSGML v1.0//EN
CALSCALE:GREGORIAN
METHOD:PUBLISH
X-WR-CALNAME:Fiddyment Farm Elementary PTC
X-ORIGINAL-URL:https://ffeptc.org
X-WR-CALDESC:Events for Fiddyment Farm Elementary PTC
REFRESH-INTERVAL;VALUE=DURATION:PT1H
X-Robots-Tag:noindex
X-PUBLISHED-TTL:PT1H
BEGIN:VTIMEZONE
TZID:America/Los_Angeles
BEGIN:DAYLIGHT
TZOFFSETFROM:-0800
TZOFFSETTO:-0700
TZNAME:PDT
DTSTART:20220313T100000
END:DAYLIGHT
BEGIN:STANDARD
TZOFFSETFROM:-0700
TZOFFSETTO:-0800
TZNAME:PST
DTSTART:20221106T090000
END:STANDARD
BEGIN:DAYLIGHT
TZOFFSETFROM:-0800
TZOFFSETTO:-0700
TZNAME:PDT
DTSTART:20230312T100000
END:DAYLIGHT
BEGIN:STANDARD
TZOFFSETFROM:-0700
TZOFFSETTO:-0800
TZNAME:PST
DTSTART:20231105T090000
END:STANDARD
BEGIN:DAYLIGHT
TZOFFSETFROM:-0800
TZOFFSETTO:-0700
TZNAME:PDT
DTSTART:20240310T100000
END:DAYLIGHT
BEGIN:STANDARD
TZOFFSETFROM:-0700
TZOFFSETTO:-0800
TZNAME:PST
DTSTART:20241103T090000
END:STANDARD
BEGIN:DAYLIGHT
TZOFFSETFROM:-0800
TZOFFSETTO:-0700
TZNAME:PDT
DTSTART:20250309T100000
END:DAYLIGHT
BEGIN:STANDARD
TZOFFSETFROM:-0700
TZOFFSETTO:-0800
TZNAME:PST
DTSTART:20251102T090000
END:STANDARD
END:VTIMEZONE
BEGIN:VEVENT
DTSTART;TZID=America/Los_Angeles:20240416T070000
DTEND;TZID=America/Los_Angeles:20240416T090000
DTSTAMP:20260419T135706
CREATED:20240819T232313Z
LAST-MODIFIED:20240819T232313Z
UID:574-1713250800-1713258000@ffeptc.org
SUMMARY:Dine Out - Kona Ice
DESCRIPTION:Stop by the Kona Ice truck today after school for a refreshing treat and to help FFE raise money.
URL:https://ffeptc.org/calendar/dine-out-kona-ice-2/
LOCATION:Fiddyment Farm Elementary\, 99 Bruck Ln\, Colfax\, CA\, United States
CATEGORIES:Fundraiser
ATTACH;FMTTYPE=image/jpeg:https://ffeptc.org/wp-content/uploads/2023/09/unnamed-4.jpg
END:VEVENT
BEGIN:VEVENT
DTSTART;TZID=America/Los_Angeles:20240404T080000
DTEND;TZID=America/Los_Angeles:20240404T130000
DTSTAMP:20260419T135706
CREATED:20240819T232313Z
LAST-MODIFIED:20240819T232313Z
UID:336-1712217600-1712235600@ffeptc.org
SUMMARY:Dine Out - Nuyo
DESCRIPTION:Stop by Nuyo Frozen Yogurt after school or after dinner to benefit FFE. \nBe sure to show the flyer or mention Fiddyment Farm Elementary when you order.
URL:https://ffeptc.org/calendar/dine-out-nuyo/
LOCATION:Nuyo Frozen Yogurt\, 190 Roseville Pkwy\, Roseville\, CA\, 95747\, United States
CATEGORIES:Fundraiser
ATTACH;FMTTYPE=image/png:https://ffeptc.org/wp-content/uploads/2023/09/cropped-NuYo_FrozenYogurt.png
END:VEVENT
BEGIN:VEVENT
DTSTART;TZID=America/Los_Angeles:20240321T070000
DTEND;TZID=America/Los_Angeles:20240321T090000
DTSTAMP:20260419T135706
CREATED:20240819T232314Z
LAST-MODIFIED:20240819T232314Z
UID:479-1711004400-1711011600@ffeptc.org
SUMMARY:Dine Out - Kona Ice
DESCRIPTION:Enjoy a sweet treat from Kona Ice today after school!
URL:https://ffeptc.org/calendar/dine-out-kona-ice-1/
LOCATION:Fiddyment Farm Elementary\, 99 Bruck Ln\, Colfax\, CA\, United States
CATEGORIES:Fundraiser
ATTACH;FMTTYPE=image/png:https://ffeptc.org/wp-content/uploads/2023/09/png-clipart-shaved-ice-kona-ice-shave-ice-snow-cone-street-food-september-school-season-food-truck.png
END:VEVENT
BEGIN:VEVENT
DTSTART;TZID=America/Los_Angeles:20240311T090000
DTEND;TZID=America/Los_Angeles:20240311T140000
DTSTAMP:20260419T135706
CREATED:20240819T232314Z
LAST-MODIFIED:20240819T232314Z
UID:483-1710147600-1710165600@ffeptc.org
SUMMARY:Dine Out - Chipotle
DESCRIPTION:Looking for dinner ideas? Head over to Chipotle and tell them Fiddyment Farm Elementary sent you! \nOrder in person\, online or on the app. Make sure to show the flyer or use the promo code.
URL:https://ffeptc.org/calendar/dine-out-chipotle/
LOCATION:Chipotle\, 1980 Blue Oaks Blvd.\, Roseville\, 95747\, United States
CATEGORIES:Fundraiser
ATTACH;FMTTYPE=image/jpeg:https://ffeptc.org/wp-content/uploads/2023/09/unnamed-3.jpg
END:VEVENT
BEGIN:VEVENT
DTSTART;TZID=America/Los_Angeles:20240226T000000
DTEND;TZID=America/Los_Angeles:20240315T100000
DTSTAMP:20260419T135706
CREATED:20240819T232256Z
LAST-MODIFIED:20240819T232256Z
UID:459-1708905600-1710496800@ffeptc.org
SUMMARY:Step It Up Fundraiser
DESCRIPTION:This is our biggest fundraiser of the year! Help raise money for Fiddyment Farm Elementary by participating in this amazing fundraiser. Set goals and receive prizes for your efforts. Funds go to supporting the staff\, providing supplies\, and hosting fun events for students.
URL:https://ffeptc.org/calendar/step-it-up-fundraiser/
LOCATION:Fiddyment Farm Elementary\, 99 Bruck Ln\, Colfax\, CA\, United States
CATEGORIES:Fundraiser
ATTACH;FMTTYPE=image/png:https://ffeptc.org/wp-content/uploads/2023/09/Untitleddesign7.png
END:VEVENT
BEGIN:VEVENT
DTSTART;TZID=America/Los_Angeles:20240221T030000
DTEND;TZID=America/Los_Angeles:20240221T130000
DTSTAMP:20260419T135706
CREATED:20240819T232256Z
LAST-MODIFIED:20240819T232256Z
UID:487-1708484400-1708520400@ffeptc.org
SUMMARY:Dine Out - Old Town Pizza
DESCRIPTION:What’s on the menu today? How about pizza? \nHead over to OTP and get a tasty pizza or fresh salad. \nOrder in-person\, online or using the app. Honored at both Roseville and Lincoln locations. Be sure to mention Fiddyment Farm Elementary or use code FR15.
URL:https://ffeptc.org/calendar/dine-out-old-town-pizza/
LOCATION:Old Town Pizza\, 120 Church Street\, Roseville\, AR\, 95747\, United States
CATEGORIES:Fundraiser
ATTACH;FMTTYPE=image/png:https://ffeptc.org/wp-content/uploads/2023/09/235218434_2075868449230371_1205251355743951352_n.png
END:VEVENT
BEGIN:VEVENT
DTSTART;TZID=America/Los_Angeles:20231212T060000
DTEND;TZID=America/Los_Angeles:20231212T080000
DTSTAMP:20260419T135706
CREATED:20230914T060232Z
LAST-MODIFIED:20230926T235437Z
UID:495-1702360800-1702368000@ffeptc.org
SUMMARY:Dine Out - Kona Hot Chocolate
DESCRIPTION:Just because it’s too chilly for shaved ice\, doesn’t mean Kona Ice can’t offer a sweet treat! Stop by the truck after school today for a hot chocolate and help FFE raise money!
URL:https://ffeptc.org/calendar/dine-out-kona-hot-chocolate/
LOCATION:Fiddyment Farm Elementary\, 99 Bruck Ln\, Colfax\, CA\, United States
CATEGORIES:Fundraiser
ATTACH;FMTTYPE=image/png:https://ffeptc.org/wp-content/uploads/2023/09/png-clipart-shaved-ice-kona-ice-shave-ice-snow-cone-street-food-september-school-season-food-truck.png
END:VEVENT
BEGIN:VEVENT
DTSTART;TZID=America/Los_Angeles:20231206T020000
DTEND;TZID=America/Los_Angeles:20231206T130000
DTSTAMP:20260419T135706
CREATED:20230914T053715Z
LAST-MODIFIED:20230926T233923Z
UID:475-1701828000-1701867600@ffeptc.org
SUMMARY:Dine Out - MOD Pizza
DESCRIPTION:Order pizza for dinner tonight and help us raise money for FFE. In fact\, order pizza for all your meals as the fundraiser goes on all day! \nYou can order in-person\, online or with the app. \nBe sure to mention Fiddyment Farm Elementary or use code MODF7845.
URL:https://ffeptc.org/calendar/dine-out-mod-pizza/
LOCATION:MOD Pizza\, 190 Roseville Pkwy\, Roseville\, CA\, 95747\, United States
CATEGORIES:Fundraiser
ATTACH;FMTTYPE=image/png:https://ffeptc.org/wp-content/uploads/2023/09/MOD_Pizza_logo.svg.png
END:VEVENT
BEGIN:VEVENT
DTSTART;TZID=America/Los_Angeles:20231116T090000
DTEND;TZID=America/Los_Angeles:20231116T130000
DTSTAMP:20260419T135706
CREATED:20230914T060722Z
LAST-MODIFIED:20231013T222155Z
UID:499-1700125200-1700139600@ffeptc.org
SUMMARY:Dine Out - Dog Haus
DESCRIPTION:Grab dinner and a brew at Dog Haus Biergarten tonight. \nMention Fiddyment Farm Elementary or show the flyer when you order.
URL:https://ffeptc.org/calendar/dine-out-dog-haus/
LOCATION:Dog Haus\, 1501 Blue Oaks Blve\, Roseville\, 95747\, United States
CATEGORIES:Fundraiser
ATTACH;FMTTYPE=image/jpeg:https://ffeptc.org/wp-content/uploads/2023/09/DogHaus_Logo.jpg
END:VEVENT
BEGIN:VEVENT
DTSTART;TZID=America/Los_Angeles:20231101T010000
DTEND;TZID=America/Los_Angeles:20231115T090000
DTSTAMP:20260419T135706
CREATED:20231028T004806Z
LAST-MODIFIED:20231028T004806Z
UID:628-1698800400-1700038800@ffeptc.org
SUMMARY:Cherrydale Fundraiser
DESCRIPTION:Check out our Cherrydale Catalog fundraiser. Help us raise money towards supporting our students\, staff and classroom needs! \nPlease register at shopfund.com \nOrders due by 11/15/2023/
URL:https://ffeptc.org/calendar/cherrydale-fundraiser/
LOCATION:CA
CATEGORIES:Fundraiser
ATTACH;FMTTYPE=image/jpeg:https://ffeptc.org/wp-content/uploads/2023/10/image0.jpeg
END:VEVENT
BEGIN:VEVENT
DTSTART;TZID=America/Los_Angeles:20231017T070000
DTEND;TZID=America/Los_Angeles:20231017T090000
DTSTAMP:20260419T135706
CREATED:20230914T061047Z
LAST-MODIFIED:20230926T235027Z
UID:503-1697526000-1697533200@ffeptc.org
SUMMARY:Dine Out - Kona Ice
DESCRIPTION:Stop by the Kona Ice truck after school today to enjoy a sweet treat and help raise money for FFE. \n 
URL:https://ffeptc.org/calendar/dine-out-kona-ice/
LOCATION:Fiddyment Farm Elementary\, 99 Bruck Ln\, Colfax\, CA\, United States
CATEGORIES:Fundraiser
ATTACH;FMTTYPE=image/png:https://ffeptc.org/wp-content/uploads/2023/09/png-clipart-shaved-ice-kona-ice-shave-ice-snow-cone-street-food-september-school-season-food-truck.png
END:VEVENT
BEGIN:VEVENT
DTSTART;TZID=America/Los_Angeles:20231006T030000
DTEND;TZID=America/Los_Angeles:20231006T140000
DTSTAMP:20260419T135706
CREATED:20230913T085157Z
LAST-MODIFIED:20230914T042228Z
UID:358-1696561200-1696600800@ffeptc.org
SUMMARY:Dine Out - Panda Express
DESCRIPTION:Join us for an all day Dine Out fundraiser at Panda Express on Blue Oaks. Order in-person\, online or thru the app. Be sure to mention Fiddyment Farm!
URL:https://ffeptc.org/calendar/dine-out-panda-express/
LOCATION:Panda Express\, 1501 Blue Oaks Blvd.\, Roseville\, CA\, 95747\, United States
CATEGORIES:Fundraiser
ATTACH;FMTTYPE=image/png:https://ffeptc.org/wp-content/uploads/2023/09/IMG_0312.png
END:VEVENT
BEGIN:VEVENT
DTSTART;TZID=America/Los_Angeles:20230927T040000
DTEND;TZID=America/Los_Angeles:20230927T150000
DTSTAMP:20260419T135706
CREATED:20230905T103309Z
LAST-MODIFIED:20230914T042142Z
UID:330-1695787200-1695826800@ffeptc.org
SUMMARY:Dine Out - Handel's Ice Cream
DESCRIPTION:Join us for a fundraiser at Handel’s Homemade Ice Cream! Be sure to mention Fiddyment Farm Elementary when you visit.
URL:https://ffeptc.org/calendar/dine-out-handels-ice-cream/
LOCATION:Handel’s Ice Cream\, 1164 Galleria Blvd.\, Roseville\, CA\, 95678\, United States
CATEGORIES:Fundraiser
ATTACH;FMTTYPE=image/jpeg:https://ffeptc.org/wp-content/uploads/2023/09/369991152_1666729540485227_3905150671589947543_n.jpg
END:VEVENT
BEGIN:VEVENT
DTSTART;TZID=America/Los_Angeles:20230822T100000
DTEND;TZID=America/Los_Angeles:20230822T130000
DTSTAMP:20260419T135706
CREATED:20230801T050605Z
LAST-MODIFIED:20230801T050605Z
UID:61-1692698400-1692709200@ffeptc.org
SUMMARY:Dine Out at Chick-Fil-A
DESCRIPTION:Feed the family and raise money for your school at Chick-Fil-A.
URL:https://ffeptc.org/calendar/dine-out-at-chick-fil-a/
LOCATION:Chick-Fil-A Roseville\, 912 Pleasant Grove Blvd.\, Roseville\, 95678\, United States
CATEGORIES:Fundraiser
ATTACH;FMTTYPE=image/jpeg:https://ffeptc.org/wp-content/uploads/2023/07/362268125_1648249288999919_3410181413106008605_n.jpg
END:VEVENT
END:VCALENDAR