BEGIN:VCALENDAR
VERSION:2.0
PRODID:-//Fiddyment Farm Elementary PTC - ECPv6.15.20//NONSGML v1.0//EN
CALSCALE:GREGORIAN
METHOD:PUBLISH
X-WR-CALNAME:Fiddyment Farm Elementary PTC
X-ORIGINAL-URL:https://ffeptc.org
X-WR-CALDESC:Events for Fiddyment Farm Elementary PTC
REFRESH-INTERVAL;VALUE=DURATION:PT1H
X-Robots-Tag:noindex
X-PUBLISHED-TTL:PT1H
BEGIN:VTIMEZONE
TZID:America/Los_Angeles
BEGIN:DAYLIGHT
TZOFFSETFROM:-0800
TZOFFSETTO:-0700
TZNAME:PDT
DTSTART:20220313T100000
END:DAYLIGHT
BEGIN:STANDARD
TZOFFSETFROM:-0700
TZOFFSETTO:-0800
TZNAME:PST
DTSTART:20221106T090000
END:STANDARD
BEGIN:DAYLIGHT
TZOFFSETFROM:-0800
TZOFFSETTO:-0700
TZNAME:PDT
DTSTART:20230312T100000
END:DAYLIGHT
BEGIN:STANDARD
TZOFFSETFROM:-0700
TZOFFSETTO:-0800
TZNAME:PST
DTSTART:20231105T090000
END:STANDARD
BEGIN:DAYLIGHT
TZOFFSETFROM:-0800
TZOFFSETTO:-0700
TZNAME:PDT
DTSTART:20240310T100000
END:DAYLIGHT
BEGIN:STANDARD
TZOFFSETFROM:-0700
TZOFFSETTO:-0800
TZNAME:PST
DTSTART:20241103T090000
END:STANDARD
END:VTIMEZONE
BEGIN:VEVENT
DTSTART;TZID=America/Los_Angeles:20230927T040000
DTEND;TZID=America/Los_Angeles:20230927T150000
DTSTAMP:20260421T112300
CREATED:20230905T103309Z
LAST-MODIFIED:20230914T042142Z
UID:330-1695787200-1695826800@ffeptc.org
SUMMARY:Dine Out - Handel's Ice Cream
DESCRIPTION:Join us for a fundraiser at Handel’s Homemade Ice Cream! Be sure to mention Fiddyment Farm Elementary when you visit.
URL:https://ffeptc.org/calendar/dine-out-handels-ice-cream/
LOCATION:Handel’s Ice Cream\, 1164 Galleria Blvd.\, Roseville\, CA\, 95678\, United States
CATEGORIES:Fundraiser
ATTACH;FMTTYPE=image/jpeg:https://ffeptc.org/wp-content/uploads/2023/09/369991152_1666729540485227_3905150671589947543_n.jpg
END:VEVENT
END:VCALENDAR