BEGIN:VCALENDAR
VERSION:2.0
PRODID:-//Fiddyment Farm Elementary PTC - ECPv6.15.20//NONSGML v1.0//EN
CALSCALE:GREGORIAN
METHOD:PUBLISH
X-ORIGINAL-URL:https://ffeptc.org
X-WR-CALDESC:Events for Fiddyment Farm Elementary PTC
REFRESH-INTERVAL;VALUE=DURATION:PT1H
X-Robots-Tag:noindex
X-PUBLISHED-TTL:PT1H
BEGIN:VTIMEZONE
TZID:America/Los_Angeles
BEGIN:DAYLIGHT
TZOFFSETFROM:-0800
TZOFFSETTO:-0700
TZNAME:PDT
DTSTART:20230312T100000
END:DAYLIGHT
BEGIN:STANDARD
TZOFFSETFROM:-0700
TZOFFSETTO:-0800
TZNAME:PST
DTSTART:20231105T090000
END:STANDARD
BEGIN:DAYLIGHT
TZOFFSETFROM:-0800
TZOFFSETTO:-0700
TZNAME:PDT
DTSTART:20240310T100000
END:DAYLIGHT
BEGIN:STANDARD
TZOFFSETFROM:-0700
TZOFFSETTO:-0800
TZNAME:PST
DTSTART:20241103T090000
END:STANDARD
BEGIN:DAYLIGHT
TZOFFSETFROM:-0800
TZOFFSETTO:-0700
TZNAME:PDT
DTSTART:20250309T100000
END:DAYLIGHT
BEGIN:STANDARD
TZOFFSETFROM:-0700
TZOFFSETTO:-0800
TZNAME:PST
DTSTART:20251102T090000
END:STANDARD
END:VTIMEZONE
BEGIN:VEVENT
DTSTART;TZID=America/Los_Angeles:20240521T043000
DTEND;TZID=America/Los_Angeles:20240521T060000
DTSTAMP:20260421T182507
CREATED:20240819T232256Z
LAST-MODIFIED:20240819T232256Z
UID:680-1716265800-1716271200@ffeptc.org
SUMMARY:Family Picnic
DESCRIPTION:Families are welcome to join your student for lunch today! Bring a blanket and some food and enjoy a picnic outdoors during your student’s lunch period. \nK-2nd 11:30am – 12:10pm \n3rd-5th 12:20pm – 1:00pm
URL:https://ffeptc.org/calendar/family-picnic/
LOCATION:Fiddyment Farm Elementary\, 99 Bruck Ln\, Colfax\, CA\, United States
CATEGORIES:Activity
ATTACH;FMTTYPE=image/jpeg:https://ffeptc.org/wp-content/uploads/2023/11/unnamed.jpg
END:VEVENT
END:VCALENDAR