BEGIN:VCALENDAR
VERSION:2.0
PRODID:-//Fiddyment Farm Elementary PTC - ECPv6.15.20//NONSGML v1.0//EN
CALSCALE:GREGORIAN
METHOD:PUBLISH
X-WR-CALNAME:Fiddyment Farm Elementary PTC
X-ORIGINAL-URL:https://ffeptc.org
X-WR-CALDESC:Events for Fiddyment Farm Elementary PTC
REFRESH-INTERVAL;VALUE=DURATION:PT1H
X-Robots-Tag:noindex
X-PUBLISHED-TTL:PT1H
BEGIN:VTIMEZONE
TZID:America/Los_Angeles
BEGIN:DAYLIGHT
TZOFFSETFROM:-0800
TZOFFSETTO:-0700
TZNAME:PDT
DTSTART:20250309T100000
END:DAYLIGHT
BEGIN:STANDARD
TZOFFSETFROM:-0700
TZOFFSETTO:-0800
TZNAME:PST
DTSTART:20251102T090000
END:STANDARD
BEGIN:DAYLIGHT
TZOFFSETFROM:-0800
TZOFFSETTO:-0700
TZNAME:PDT
DTSTART:20260308T100000
END:DAYLIGHT
BEGIN:STANDARD
TZOFFSETFROM:-0700
TZOFFSETTO:-0800
TZNAME:PST
DTSTART:20261101T090000
END:STANDARD
BEGIN:DAYLIGHT
TZOFFSETFROM:-0800
TZOFFSETTO:-0700
TZNAME:PDT
DTSTART:20270314T100000
END:DAYLIGHT
BEGIN:STANDARD
TZOFFSETFROM:-0700
TZOFFSETTO:-0800
TZNAME:PST
DTSTART:20271107T090000
END:STANDARD
END:VTIMEZONE
BEGIN:VEVENT
DTSTART;VALUE=DATE:20260510
DTEND;VALUE=DATE:20260511
DTSTAMP:20260420T021333
CREATED:20250921T043925Z
LAST-MODIFIED:20260118T044006Z
UID:5915-1778371200-1778457599@ffeptc.org
SUMMARY:Board meeting agenda reminder
DESCRIPTION:
URL:https://ffeptc.org/calendar/board-meeting-agenda-reminder-8/
LOCATION:CA
END:VEVENT
BEGIN:VEVENT
DTSTART;TZID=America/Los_Angeles:20260510T090000
DTEND;TZID=America/Los_Angeles:20260510T110000
DTSTAMP:20260420T021333
CREATED:20250912T033400Z
LAST-MODIFIED:20251005T082338Z
UID:5580-1778403600-1778410800@ffeptc.org
SUMMARY:2nd Sunday Coffee & Play
DESCRIPTION:
URL:https://ffeptc.org/calendar/2nd-sunday-coffee-play-9/
LOCATION:CA
END:VEVENT
BEGIN:VEVENT
DTSTART;TZID=America/Los_Angeles:20260510T100000
DTEND;TZID=America/Los_Angeles:20260510T120000
DTSTAMP:20260420T021333
CREATED:20260112T234145Z
LAST-MODIFIED:20260414T205847Z
UID:6429-1778407200-1778414400@ffeptc.org
SUMMARY:2nd Sunday Coffee & Play
DESCRIPTION:
URL:https://ffeptc.org/calendar/2nd-sunday-coffee-play-13/
LOCATION:CA
END:VEVENT
END:VCALENDAR