BEGIN:VCALENDAR
VERSION:2.0
PRODID:-//Fiddyment Farm Elementary PTC - ECPv6.15.20//NONSGML v1.0//EN
CALSCALE:GREGORIAN
METHOD:PUBLISH
X-WR-CALNAME:Fiddyment Farm Elementary PTC
X-ORIGINAL-URL:https://ffeptc.org
X-WR-CALDESC:Events for Fiddyment Farm Elementary PTC
REFRESH-INTERVAL;VALUE=DURATION:PT1H
X-Robots-Tag:noindex
X-PUBLISHED-TTL:PT1H
BEGIN:VTIMEZONE
TZID:America/Los_Angeles
BEGIN:DAYLIGHT
TZOFFSETFROM:-0800
TZOFFSETTO:-0700
TZNAME:PDT
DTSTART:20250309T100000
END:DAYLIGHT
BEGIN:STANDARD
TZOFFSETFROM:-0700
TZOFFSETTO:-0800
TZNAME:PST
DTSTART:20251102T090000
END:STANDARD
BEGIN:DAYLIGHT
TZOFFSETFROM:-0800
TZOFFSETTO:-0700
TZNAME:PDT
DTSTART:20260308T100000
END:DAYLIGHT
BEGIN:STANDARD
TZOFFSETFROM:-0700
TZOFFSETTO:-0800
TZNAME:PST
DTSTART:20261101T090000
END:STANDARD
BEGIN:DAYLIGHT
TZOFFSETFROM:-0800
TZOFFSETTO:-0700
TZNAME:PDT
DTSTART:20270314T100000
END:DAYLIGHT
BEGIN:STANDARD
TZOFFSETFROM:-0700
TZOFFSETTO:-0800
TZNAME:PST
DTSTART:20271107T090000
END:STANDARD
END:VTIMEZONE
BEGIN:VEVENT
DTSTART;VALUE=DATE:20260504
DTEND;VALUE=DATE:20260509
DTSTAMP:20260420T022726
CREATED:20251111T204118Z
LAST-MODIFIED:20260419T215514Z
UID:6265-1777852800-1778284799@ffeptc.org
SUMMARY:Teacher Appreciation week
DESCRIPTION:
URL:https://ffeptc.org/calendar/teacher-appreciation-week-7/
LOCATION:CA
END:VEVENT
BEGIN:VEVENT
DTSTART;TZID=America/Los_Angeles:20260507T180000
DTEND;TZID=America/Los_Angeles:20260507T190000
DTSTAMP:20260420T022726
CREATED:20250924T052407Z
LAST-MODIFIED:20260419T215515Z
UID:5999-1778176800-1778180400@ffeptc.org
SUMMARY:General PTC Meeting
DESCRIPTION:
URL:https://ffeptc.org/calendar/general-ptc-meeting-33/
LOCATION:CA
END:VEVENT
END:VCALENDAR