BEGIN:VCALENDAR
VERSION:2.0
PRODID:-//Fiddyment Farm Elementary PTC - ECPv6.15.20//NONSGML v1.0//EN
CALSCALE:GREGORIAN
METHOD:PUBLISH
X-WR-CALNAME:Fiddyment Farm Elementary PTC
X-ORIGINAL-URL:https://ffeptc.org
X-WR-CALDESC:Events for Fiddyment Farm Elementary PTC
REFRESH-INTERVAL;VALUE=DURATION:PT1H
X-Robots-Tag:noindex
X-PUBLISHED-TTL:PT1H
BEGIN:VTIMEZONE
TZID:America/Los_Angeles
BEGIN:DAYLIGHT
TZOFFSETFROM:-0800
TZOFFSETTO:-0700
TZNAME:PDT
DTSTART:20250309T100000
END:DAYLIGHT
BEGIN:STANDARD
TZOFFSETFROM:-0700
TZOFFSETTO:-0800
TZNAME:PST
DTSTART:20251102T090000
END:STANDARD
BEGIN:DAYLIGHT
TZOFFSETFROM:-0800
TZOFFSETTO:-0700
TZNAME:PDT
DTSTART:20260308T100000
END:DAYLIGHT
BEGIN:STANDARD
TZOFFSETFROM:-0700
TZOFFSETTO:-0800
TZNAME:PST
DTSTART:20261101T090000
END:STANDARD
BEGIN:DAYLIGHT
TZOFFSETFROM:-0800
TZOFFSETTO:-0700
TZNAME:PDT
DTSTART:20270314T100000
END:DAYLIGHT
BEGIN:STANDARD
TZOFFSETFROM:-0700
TZOFFSETTO:-0800
TZNAME:PST
DTSTART:20271107T090000
END:STANDARD
END:VTIMEZONE
BEGIN:VEVENT
DTSTART;TZID=America/Los_Angeles:20260326T173000
DTEND;TZID=America/Los_Angeles:20260326T180000
DTSTAMP:20260420T061936
CREATED:20260306T044418Z
LAST-MODIFIED:20260320T175740Z
UID:6518-1774546200-1774548000@ffeptc.org
SUMMARY:English Learner Advisory Committee (ELAC) Meeting
DESCRIPTION: \n\n\n\n\n📢 ELAC Meeting – March 26\, 2026 Dear Fiddyment Families\, \nWe invite you to join us for our next English Learner Advisory Committee (ELAC) meeting on: \n📅 Thursday\, March 26\, 2026🕒 5:30pm – 6:00pm💻 Zoom (Link will be shared prior to the meeting) \nDuring this meeting\, we will: \n• Review results from our 2025–2026 Needs Assessment Survey• Discuss trends and areas of need for our English Learner students• Develop recommendations for the principal as we begin planning for the 2026–2027 SPSA (School Plan for Student Achievement) \nELAC plays an important role in advising the principal on programs and services for English Learners. Your voice and input truly matter as we plan for next school year. \nIf you have any questions\, please contact:Carlie Cavinsccavins@rcsdk8.org \nWe hope to see you there!
URL:https://ffeptc.org/calendar/english-learner-advisory-committee-elac-meeting/
LOCATION:Zoom link shared prior to meeting
END:VEVENT
END:VCALENDAR