BEGIN:VCALENDAR
VERSION:2.0
PRODID:-//Fiddyment Farm Elementary PTC - ECPv6.15.20//NONSGML v1.0//EN
CALSCALE:GREGORIAN
METHOD:PUBLISH
X-ORIGINAL-URL:https://ffeptc.org
X-WR-CALDESC:Events for Fiddyment Farm Elementary PTC
REFRESH-INTERVAL;VALUE=DURATION:PT1H
X-Robots-Tag:noindex
X-PUBLISHED-TTL:PT1H
BEGIN:VTIMEZONE
TZID:America/Los_Angeles
BEGIN:DAYLIGHT
TZOFFSETFROM:-0800
TZOFFSETTO:-0700
TZNAME:PDT
DTSTART:20250309T100000
END:DAYLIGHT
BEGIN:STANDARD
TZOFFSETFROM:-0700
TZOFFSETTO:-0800
TZNAME:PST
DTSTART:20251102T090000
END:STANDARD
BEGIN:DAYLIGHT
TZOFFSETFROM:-0800
TZOFFSETTO:-0700
TZNAME:PDT
DTSTART:20260308T100000
END:DAYLIGHT
BEGIN:STANDARD
TZOFFSETFROM:-0700
TZOFFSETTO:-0800
TZNAME:PST
DTSTART:20261101T090000
END:STANDARD
BEGIN:DAYLIGHT
TZOFFSETFROM:-0800
TZOFFSETTO:-0700
TZNAME:PDT
DTSTART:20270314T100000
END:DAYLIGHT
BEGIN:STANDARD
TZOFFSETFROM:-0700
TZOFFSETTO:-0800
TZNAME:PST
DTSTART:20271107T090000
END:STANDARD
END:VTIMEZONE
BEGIN:VEVENT
DTSTART;VALUE=DATE:20260308
DTEND;VALUE=DATE:20260309
DTSTAMP:20260420T062030
CREATED:20250921T043921Z
LAST-MODIFIED:20260118T044001Z
UID:5898-1772928000-1773014399@ffeptc.org
SUMMARY:Board meeting agenda reminder
DESCRIPTION:
URL:https://ffeptc.org/calendar/board-meeting-agenda-reminder-6/
LOCATION:CA
END:VEVENT
BEGIN:VEVENT
DTSTART;TZID=America/Los_Angeles:20260308T090000
DTEND;TZID=America/Los_Angeles:20260308T110000
DTSTAMP:20260420T062030
CREATED:20250912T033359Z
LAST-MODIFIED:20260112T234120Z
UID:5568-1772960400-1772967600@ffeptc.org
SUMMARY:2nd Sunday Coffee & Play
DESCRIPTION:
URL:https://ffeptc.org/calendar/2nd-sunday-coffee-play-7/
LOCATION:CA
END:VEVENT
BEGIN:VEVENT
DTSTART;TZID=America/Los_Angeles:20260308T100000
DTEND;TZID=America/Los_Angeles:20260308T120000
DTSTAMP:20260420T062030
CREATED:20260112T234141Z
LAST-MODIFIED:20260306T044417Z
UID:6427-1772964000-1772971200@ffeptc.org
SUMMARY:2nd Sunday Coffee & Play
DESCRIPTION:
URL:https://ffeptc.org/calendar/2nd-sunday-coffee-play-11/
LOCATION:CA
END:VEVENT
BEGIN:VEVENT
DTSTART;TZID=America/Los_Angeles:20260308T153000
DTEND;TZID=America/Los_Angeles:20260308T170000
DTSTAMP:20260420T062030
CREATED:20250730T232345Z
LAST-MODIFIED:20260127T064413Z
UID:3111-1772983800-1772989200@ffeptc.org
SUMMARY:PTC Board Meeting
DESCRIPTION:
URL:https://ffeptc.org/calendar/ptc-board-meeting-13/
LOCATION:Raley’s O-N-E Market\, 2000 Blue Oaks Blvd\, Roseville\, CA\, United States
END:VEVENT
END:VCALENDAR