BEGIN:VCALENDAR
VERSION:2.0
PRODID:-//Fiddyment Farm Elementary PTC - ECPv6.15.20//NONSGML v1.0//EN
CALSCALE:GREGORIAN
METHOD:PUBLISH
X-WR-CALNAME:Fiddyment Farm Elementary PTC
X-ORIGINAL-URL:https://ffeptc.org
X-WR-CALDESC:Events for Fiddyment Farm Elementary PTC
REFRESH-INTERVAL;VALUE=DURATION:PT1H
X-Robots-Tag:noindex
X-PUBLISHED-TTL:PT1H
BEGIN:VTIMEZONE
TZID:America/Los_Angeles
BEGIN:DAYLIGHT
TZOFFSETFROM:-0800
TZOFFSETTO:-0700
TZNAME:PDT
DTSTART:20250309T100000
END:DAYLIGHT
BEGIN:STANDARD
TZOFFSETFROM:-0700
TZOFFSETTO:-0800
TZNAME:PST
DTSTART:20251102T090000
END:STANDARD
BEGIN:DAYLIGHT
TZOFFSETFROM:-0800
TZOFFSETTO:-0700
TZNAME:PDT
DTSTART:20260308T100000
END:DAYLIGHT
BEGIN:STANDARD
TZOFFSETFROM:-0700
TZOFFSETTO:-0800
TZNAME:PST
DTSTART:20261101T090000
END:STANDARD
BEGIN:DAYLIGHT
TZOFFSETFROM:-0800
TZOFFSETTO:-0700
TZNAME:PDT
DTSTART:20270314T100000
END:DAYLIGHT
BEGIN:STANDARD
TZOFFSETFROM:-0700
TZOFFSETTO:-0800
TZNAME:PST
DTSTART:20271107T090000
END:STANDARD
END:VTIMEZONE
BEGIN:VEVENT
DTSTART;VALUE=DATE:20260208
DTEND;VALUE=DATE:20260209
DTSTAMP:20260420T074516
CREATED:20250921T043918Z
LAST-MODIFIED:20260127T064410Z
UID:5890-1770508800-1770595199@ffeptc.org
SUMMARY:Board meeting agenda reminder
DESCRIPTION:
URL:https://ffeptc.org/calendar/board-meeting-agenda-reminder-5/
LOCATION:CA
END:VEVENT
BEGIN:VEVENT
DTSTART;TZID=America/Los_Angeles:20260208T090000
DTEND;TZID=America/Los_Angeles:20260208T110000
DTSTAMP:20260420T074516
CREATED:20250912T033357Z
LAST-MODIFIED:20260112T234117Z
UID:5561-1770541200-1770548400@ffeptc.org
SUMMARY:2nd Sunday Coffee & Play
DESCRIPTION:
URL:https://ffeptc.org/calendar/2nd-sunday-coffee-play-6/
LOCATION:CA
END:VEVENT
BEGIN:VEVENT
DTSTART;TZID=America/Los_Angeles:20260208T100000
DTEND;TZID=America/Los_Angeles:20260208T120000
DTSTAMP:20260420T074516
CREATED:20260112T234139Z
LAST-MODIFIED:20260204T082739Z
UID:6426-1770544800-1770552000@ffeptc.org
SUMMARY:2nd Sunday Coffee & Play
DESCRIPTION:
URL:https://ffeptc.org/calendar/2nd-sunday-coffee-play-10/
LOCATION:CA
END:VEVENT
BEGIN:VEVENT
DTSTART;TZID=America/Los_Angeles:20260208T150000
DTEND;TZID=America/Los_Angeles:20260208T170000
DTSTAMP:20260420T074516
CREATED:20250730T232344Z
LAST-MODIFIED:20260127T064410Z
UID:3109-1770562800-1770570000@ffeptc.org
SUMMARY:PTC Board Meeting
DESCRIPTION:
URL:https://ffeptc.org/calendar/ptc-board-meeting-12/
LOCATION:Capital One Café 1151 Galleria Blvd\, Suite 145\, Roseville\, CA 95678\, United States (pending reschedule)
END:VEVENT
BEGIN:VEVENT
DTSTART;TZID=America/Los_Angeles:20260208T150000
DTEND;TZID=America/Los_Angeles:20260208T170000
DTSTAMP:20260420T074516
CREATED:20260131T072919Z
LAST-MODIFIED:20260204T082739Z
UID:6460-1770562800-1770570000@ffeptc.org
SUMMARY:PTC Board Meeting
DESCRIPTION:
URL:https://ffeptc.org/calendar/ptc-board-meeting-17/
LOCATION:Capital One Café 1151 Galleria Blvd\, Suite 145\, Roseville\, CA 95678\, United States (pending reschedule)
END:VEVENT
END:VCALENDAR