BEGIN:VCALENDAR
VERSION:2.0
PRODID:-//Fiddyment Farm Elementary PTC - ECPv6.15.20//NONSGML v1.0//EN
CALSCALE:GREGORIAN
METHOD:PUBLISH
X-WR-CALNAME:Fiddyment Farm Elementary PTC
X-ORIGINAL-URL:https://ffeptc.org
X-WR-CALDESC:Events for Fiddyment Farm Elementary PTC
REFRESH-INTERVAL;VALUE=DURATION:PT1H
X-Robots-Tag:noindex
X-PUBLISHED-TTL:PT1H
BEGIN:VTIMEZONE
TZID:America/Los_Angeles
BEGIN:DAYLIGHT
TZOFFSETFROM:-0800
TZOFFSETTO:-0700
TZNAME:PDT
DTSTART:20240310T100000
END:DAYLIGHT
BEGIN:STANDARD
TZOFFSETFROM:-0700
TZOFFSETTO:-0800
TZNAME:PST
DTSTART:20241103T090000
END:STANDARD
BEGIN:DAYLIGHT
TZOFFSETFROM:-0800
TZOFFSETTO:-0700
TZNAME:PDT
DTSTART:20250309T100000
END:DAYLIGHT
BEGIN:STANDARD
TZOFFSETFROM:-0700
TZOFFSETTO:-0800
TZNAME:PST
DTSTART:20251102T090000
END:STANDARD
BEGIN:DAYLIGHT
TZOFFSETFROM:-0800
TZOFFSETTO:-0700
TZNAME:PDT
DTSTART:20260308T100000
END:DAYLIGHT
BEGIN:STANDARD
TZOFFSETFROM:-0700
TZOFFSETTO:-0800
TZNAME:PST
DTSTART:20261101T090000
END:STANDARD
BEGIN:DAYLIGHT
TZOFFSETFROM:-0800
TZOFFSETTO:-0700
TZNAME:PDT
DTSTART:20270314T100000
END:DAYLIGHT
BEGIN:STANDARD
TZOFFSETFROM:-0700
TZOFFSETTO:-0800
TZNAME:PST
DTSTART:20271107T090000
END:STANDARD
END:VTIMEZONE
BEGIN:VEVENT
DTSTART;VALUE=DATE:20251219
DTEND;VALUE=DATE:20260106
DTSTAMP:20260420T105017
CREATED:20250929T070623Z
LAST-MODIFIED:20260104T215935Z
UID:6102-1766102400-1767657599@ffeptc.org
SUMMARY:Winter Break - No School
DESCRIPTION:
URL:https://ffeptc.org/calendar/winter-break-no-school/
LOCATION:CA
END:VEVENT
BEGIN:VEVENT
DTSTART;TZID=America/Los_Angeles:20251228T110000
DTEND;TZID=America/Los_Angeles:20251228T210000
DTSTAMP:20260420T105017
CREATED:20251212T065936Z
LAST-MODIFIED:20251227T195942Z
UID:6361-1766919600-1766955600@ffeptc.org
SUMMARY:Smashburger Dine out
DESCRIPTION:Online orders use code SBFUNDRAISE\nMention when ordering in person
URL:https://ffeptc.org/calendar/smashburger-dine-out/
LOCATION:Smashburger\, 1541 Blue Oaks Blvd #120/130\, Roseville\, CA 95747\, USA
END:VEVENT
END:VCALENDAR